BEGIN:VCALENDAR
VERSION:2.0
PRODID:-//ChamberMaster//Event Calendar 2.0//EN
METHOD:PUBLISH
X-PUBLISHED-TTL:P3D
REFRESH-INTERVAL:P3D
CALSCALE:GREGORIAN
BEGIN:VEVENT
DTSTART:20260505T160000Z
DTEND:20260505T170000Z
X-MICROSOFT-CDO-ALLDAYEVENT:FALSE
SUMMARY:2026: Spring Quarterly Luncheon-Mayors Turnaround Awards
DESCRIPTION:The Turnaround Awards celebrate local high school students from Bluffton\, Norwell\, and Southern Wells who have made remarkable positive changes in their lives.\n\nThe event will also recognize each school's outstanding Work-Based Learning Student of the Year (formerly known as ICE)\, highlighting excellence in real-world career readiness and achievement.
X-ALT-DESC;FMTTYPE=text/html:<div style="font-size: 16px\; caret-color: rgb(53\, 53\, 53)\; color: rgb(53\, 53\, 53)\; font-family: Tahoma\, Geneva\, sans-serif\; text-align: center\;">\n<p data-end="224" data-start="65">The Turnaround Awards celebrate local high school students from Bluffton\, Norwell\, and Southern Wells who have made remarkable positive changes in their lives.</p>\n\n<p data-end="418" data-is-last-node="" data-is-only-node="" data-start="226">The event will also recognize each school&rsquo\;s outstanding Work-Based Learning Student of the Year (formerly known as ICE)\, highlighting excellence in real-world career readiness and achievement.</p>\n</div>\n
LOCATION:Wells County Commerce & Visitors Centre 211 Water St. Bluffton\, IN 46714
UID:e.2239.2782
SEQUENCE:3
DTSTAMP:20260419T123221Z
URL:https://business.wellscoc.com/events/details/2026-spring-quarterly-luncheon-mayors-turnaround-awards-2782
END:VEVENT

END:VCALENDAR
